BEGIN:VCALENDAR
VERSION:2.0
PRODID:-//wp-events-plugin.com//7.2.3.1//EN
BEGIN:VEVENT
UID:163@protectedtomorrows.com
DTSTART;TZID=America/Chicago:20210715T190000
DTEND;TZID=America/Chicago:20210715T200000
DTSTAMP:20250624T171939Z
URL:https://protectedtomorrows.com/events/2021-parent-university-class-7-w
 ays-to-support-siblings-in-special-needs-families/
SUMMARY:2021 Parent University™ Class 7: Ways to Support Siblings in Spec
 ial Needs Families
DESCRIPTION:Sponsored by: Protected Tomorrows' 2021 Parent University™\nS
 peaker:  Mary Anne Ehlert\, President &amp\; Founder\, Protected Tomorrow
 s\, Inc.\n\n
CATEGORIES:Upcoming Events
END:VEVENT
BEGIN:VTIMEZONE
TZID:America/Chicago
X-LIC-LOCATION:America/Chicago
BEGIN:DAYLIGHT
DTSTART:20210314T030000
TZOFFSETFROM:-0600
TZOFFSETTO:-0500
TZNAME:CDT
END:DAYLIGHT
END:VTIMEZONE
END:VCALENDAR