BEGIN:VCALENDAR
VERSION:2.0
PRODID:-//wp-events-plugin.com//7.2.3.1//EN
BEGIN:VEVENT
UID:113@protectedtomorrows.com
DTSTART;TZID=America/Chicago:20221027T183000
DTEND;TZID=America/Chicago:20221027T200000
DTSTAMP:20250624T171917Z
URL:https://protectedtomorrows.com/events/able-accounts-whats-new-in-2022/
SUMMARY:ABLE Accounts "What's New in 2022"
DESCRIPTION:New Rules for IL ABLE: For Self- Advocates\, Families\, Guardia
 ns\, and Rep Payees\n\nSponsored by: The Arc of the Quad Cities Area\nSpe
 aker:   Mary Anne Ehlert\, President &amp\; Founder\, Protected Tomorrow
 s\, Inc. and JJ Hanley\, ABLE Director for IL State Treasurer\n\n
CATEGORIES:Upcoming Events
END:VEVENT
BEGIN:VTIMEZONE
TZID:America/Chicago
X-LIC-LOCATION:America/Chicago
BEGIN:DAYLIGHT
DTSTART:20220313T030000
TZOFFSETFROM:-0600
TZOFFSETTO:-0500
TZNAME:CDT
END:DAYLIGHT
END:VTIMEZONE
END:VCALENDAR