BEGIN:VCALENDAR
VERSION:2.0
PRODID:-//wp-events-plugin.com//7.2.3.1//EN
BEGIN:VEVENT
UID:164@protectedtomorrows.com
DTSTART;TZID=America/Chicago:20190226T180000
DTEND;TZID=America/Chicago:20190226T200000
DTSTAMP:20250624T171959Z
URL:https://protectedtomorrows.com/events/charting-the-journey/
SUMMARY:Charting the Journey
DESCRIPTION:Sponsored by: Grove Junior High Transition Team\nSpeaker:  Mar
 y Anne Ehlert\, President &amp\; Founder\, Protected Tomorrows\, Inc.\n\n
CATEGORIES:Upcoming Events
LOCATION:Grove Junior High School\, 777 Elk Grove Boulevard\, Elk Grove\, I
 L\, 60007\, United States
X-APPLE-STRUCTURED-LOCATION;VALUE=URI;X-ADDRESS=777 Elk Grove Boulevard\, E
 lk Grove\, IL\, 60007\, United States;X-APPLE-RADIUS=100;X-TITLE=Grove Jun
 ior High School:geo:0,0
END:VEVENT
BEGIN:VTIMEZONE
TZID:America/Chicago
X-LIC-LOCATION:America/Chicago
BEGIN:STANDARD
DTSTART:20181104T010000
TZOFFSETFROM:-0500
TZOFFSETTO:-0600
TZNAME:CST
END:STANDARD
END:VTIMEZONE
END:VCALENDAR