BEGIN:VCALENDAR
VERSION:2.0
PRODID:-//wp-events-plugin.com//7.2.3.1//EN
BEGIN:VEVENT
UID:71@protectedtomorrows.com
DTSTART;TZID=America/Chicago:20170222T180000
DTEND;TZID=America/Chicago:20170222T203000
DTSTAMP:20250624T172012Z
URL:https://protectedtomorrows.com/events/elsa-transition-fair-elmhurst-co
 llege/
SUMMARY:ELSA Transition Fair-Elmhurst College
DESCRIPTION:Sponsored by:  Elmhurst College\n\n
CATEGORIES:Upcoming Events
LOCATION:Elmhurst College Cureton Hall\, 190 S. Prospect\, Elmhurst\, IL\, 
 United States
X-APPLE-STRUCTURED-LOCATION;VALUE=URI;X-ADDRESS=190 S. Prospect\, Elmhurst\
 , IL\, United States;X-APPLE-RADIUS=100;X-TITLE=Elmhurst College Cureton H
 all:geo:0,0
END:VEVENT
BEGIN:VTIMEZONE
TZID:America/Chicago
X-LIC-LOCATION:America/Chicago
BEGIN:STANDARD
DTSTART:20161106T010000
TZOFFSETFROM:-0500
TZOFFSETTO:-0600
TZNAME:CST
END:STANDARD
END:VTIMEZONE
END:VCALENDAR