BEGIN:VCALENDAR
VERSION:2.0
PRODID:-//wp-events-plugin.com//7.2.3.1//EN
BEGIN:VEVENT
UID:70@protectedtomorrows.com
DTSTART;TZID=America/Chicago:20170304T100000
DTEND;TZID=America/Chicago:20170304T120000
DTSTAMP:20250624T172012Z
URL:https://protectedtomorrows.com/events/parent-university-2/
SUMMARY:Parent University Workshop #2
DESCRIPTION:Sponsored by:  Gigi's Playhouse and Protected Tomorrows\, Inc.
 \n\n
CATEGORIES:Upcoming Events
LOCATION:Gigi's Playhouse\, 2350 W. Higgins Rd.\, Hoffman Estates\, IL\, 60
 195\, United States
X-APPLE-STRUCTURED-LOCATION;VALUE=URI;X-ADDRESS=2350 W. Higgins Rd.\, Hoffm
 an Estates\, IL\, 60195\, United States;X-APPLE-RADIUS=100;X-TITLE=Gigi's 
 Playhouse:geo:0,0
END:VEVENT
BEGIN:VTIMEZONE
TZID:America/Chicago
X-LIC-LOCATION:America/Chicago
BEGIN:STANDARD
DTSTART:20161106T010000
TZOFFSETFROM:-0500
TZOFFSETTO:-0600
TZNAME:CST
END:STANDARD
END:VTIMEZONE
END:VCALENDAR